BEGIN:VCALENDAR
VERSION:2.0
PRODID:-//Taberna del Alabardero - ECPv4.9.13//NONSGML v1.0//EN
CALSCALE:GREGORIAN
METHOD:PUBLISH
X-WR-CALNAME:Taberna del Alabardero
X-ORIGINAL-URL:https://alabardero.com
X-WR-CALDESC:Events for Taberna del Alabardero
BEGIN:VTIMEZONE
TZID:UTC
BEGIN:STANDARD
TZOFFSETFROM:+0000
TZOFFSETTO:+0000
TZNAME:UTC
DTSTART:20210101T000000
END:STANDARD
END:VTIMEZONE
BEGIN:VEVENT
DTSTART;TZID=UTC:20210715T190000
DTEND;TZID=UTC:20210715T220000
DTSTAMP:20260424T021902
CREATED:20210701T143742Z
LAST-MODIFIED:20210701T143810Z
UID:2181-1626375600-1626386400@alabardero.com
SUMMARY:Wine Dinner July
DESCRIPTION:Join us on July 15th at 7pm for a Cava and Rosé wine tasting dinner.\nWe have limited spots\, please email sara@alabardero.com to request a booking. \nBiutiful Brut Nature (DO Cava)\nMacabeo & Chardonnay \nAJOBLANCO MALAGUEÑO CON UVAS\nALMOND AND GARLIC CREAM WITH GRAPES \n*** \nBiutiful Brut Rose (DO Cava)\nGarnacha \nFOIE A LA PLANCHA CON SETAS Y HUEVO\nPAN SEARED FOIE WITH MUSHROOMS AND EGG \n*** \nBovale (DO Utiel-Requena) Bobal \nBACALAO CONFITADO CON\nPURÉ DE PATATA Y SALSA VIZCAÍNA\nCOD WITH POTATO PUREE AND VIZCAINA SAUCE \n*** \nRosa de Arrocal (DOCa Ribera del Duero)\nTempranillo \nRABO DE TORO ESTOFADO\nCON SALSA DE VINO TINTO Y\nCROQUETA DE PATATA\nOXTAIL WITH\nTRUFFLED POTATO CROQUETTE\n*** \nFlare Sparkling Moscato (DO Valencia)\nMoscatel \nCREMOSO DE QUESO TEMPLADO\nWARM CHEESE CAKE \n$80\nTax and gratuity not included. \n
URL:/event/wine-dinner-july
LOCATION:Taberna del Alabardero\, 1776 I Street NW Entrance on 18th\, between H and I\, Washington DC\, Washington\, DC\, 20006\, United States
END:VEVENT
END:VCALENDAR