BEGIN:VCALENDAR
VERSION:2.0
PRODID:-//Taberna del Alabardero - ECPv4.9.13//NONSGML v1.0//EN
CALSCALE:GREGORIAN
METHOD:PUBLISH
X-WR-CALNAME:Taberna del Alabardero
X-ORIGINAL-URL:https://alabardero.com
X-WR-CALDESC:Events for Taberna del Alabardero
BEGIN:VTIMEZONE
TZID:UTC
BEGIN:STANDARD
TZOFFSETFROM:+0000
TZOFFSETTO:+0000
TZNAME:UTC
DTSTART:20190101T000000
END:STANDARD
END:VTIMEZONE
BEGIN:VEVENT
DTSTART;VALUE=DATE:20190214
DTEND;VALUE=DATE:20190217
DTSTAMP:20260421T081940
CREATED:20190114T174055Z
LAST-MODIFIED:20190206T205606Z
UID:895-1550102400-1550361599@alabardero.com
SUMMARY:Valentine's Dinner
DESCRIPTION:VALENTINES MENU 2019\nMenu available on February 14\, 15 and 16 \n \nPURRUSALDA CON SALMÓN MARINADO Y GAJOS DE NARANJA\nLEEK CREAM WITH MARINATED SALMON AND ORANGE \nLUBINA A LA PLANCHA CON TALLARINES DE SEPIA Y TINTA DE CALAMAR\nPAN SEARED SEABASS WITH CUTTLEFISH NOODLES AND SQUID INK \nSOLOMILLO DE TERNERA CON PASTEL DE PATATA Y SETAS Y SALSA DE TRUFA\nBEEF FILET MIGNON WITH MUSHROOM AND POTATO DAUPHINOISE AND TRUFFLE SAUCE \nTUPILA CON MOUSSE DE DOS CHOCOLATES Y FRUTA DE LA PASSIÓN\nTULIP WITH TWO CHOCOLATES MOUSSE AND PASSION FRUIT \nMACARONS Y CORAZONES DE CHOCOLATE BLANCO RELLENOS DE FRUTOS ROJOS\nMACARONS AND WHITE CHOCOLATE HEARTS WITH BERRIES \n$85\nPrice per person. Tax and gratuity not included. \n
URL:/event/valentines-dinner
LOCATION:Taberna del Alabardero\, 1776 I Street NW Entrance on 18th\, between H and I\, Washington DC\, Washington\, DC\, 20006\, United States
END:VEVENT
END:VCALENDAR