BEGIN:VCALENDAR
VERSION:2.0
PRODID:-//Taberna del Alabardero - ECPv4.9.13//NONSGML v1.0//EN
CALSCALE:GREGORIAN
METHOD:PUBLISH
X-WR-CALNAME:Taberna del Alabardero
X-ORIGINAL-URL:https://alabardero.com
X-WR-CALDESC:Events for Taberna del Alabardero
BEGIN:VTIMEZONE
TZID:UTC
BEGIN:STANDARD
TZOFFSETFROM:+0000
TZOFFSETTO:+0000
TZNAME:UTC
DTSTART:20180101T000000
END:STANDARD
END:VTIMEZONE
BEGIN:VEVENT
DTSTART;TZID=UTC:20181122T120000
DTEND;TZID=UTC:20181122T200000
DTSTAMP:20260422T023823
CREATED:20181029T140606Z
LAST-MODIFIED:20181029T140606Z
UID:748-1542888000-1542916800@alabardero.com
SUMMARY:Thanksgiving
DESCRIPTION: \nWe are celebrating Thanksgiving with a special menu. We also offer a kids menu and some take away options: \nTHANKSGIVING MENU 2018 \nAppetizer \nSopa de Calabaza con mousse de manteca de cacahuete y queso crema\nPumpkin Soup with Peanut butter mousse and cream Cheese\nor\nTosta de pan de Maíz con salteado de Setas\, Espárragos y Manchego en texturas\nCorn bread toast with sauteed Mushrooms\, Asparagus and Manchego cheese \nMain Course \nPavo al horno con cremoso de boniato\, coles de Bruselas\, gravy y salsa de arándanos\nRoasted Turkey with Sweet Potato cream\, Brussels Sprouts\, Gravy and Blueberry sauce\nor\nChurrasco de Ternera con Chimichurri\, Patatas baby y Espárragos salteados +$8\nBeef Churrasco with Chimichurri\, baby Potatoes and sauteed Asparagus +8\nor\nRodaballo a la plancha con salsa Bilbaína\, Judías verdes y puré de Patata\nPan seared Turbot with Bilbaina sauce\, Green beans and Potato purée \nDessert \nPastel de Pecanas con Helado de Vainilla\nPecan pie with Vanilla Ice cream\nor\nFlan de Calabaza con Nata montada\nPumpkin Flan with Whipped Cream \n$60\n(Tax & gratuity not included) \nKIDS MENU \nAppetizer \nCroquetas de jamón\nHam Croquettes \nTortilla de patatas\nSpanish Omelette \nMain Course \nSolomillo de ternera con patatas fritas\nBeef tenderloin with french fries \nDessert \nPastel de Pecanas con Helado de Vainilla\nPecan pie with Vanilla Ice cream\nor\nFlan de Calabaza con Nata montada\nPumpkin Flan with Whipped Cream \n$40\n(Tax & gratuity not included) \nTHANKSGIVING TO GO \nPAVO AL HORNO\nROASTED TURKEY\n(SERVES 8-10 people)\n$200 \nSIDES\n(PER SERVING) \nPURE DE BONIATO\nSWEET POTATO PURÉE\n3 \nSALTEADO DE COLES DE BRUSELAS\nSAUTEED BRUSSELS SPROUTS\n3.5 \nSALSA GRAVY\nGRAVY SAUCE\n2 \n SALSA DE ARANDANOS\nBLUEBERRY SAUCE\n2 \nPAN DE MAIZ\nCORN BREAD\n2.5 \n
URL:/event/thanksgiving
LOCATION:Taberna del Alabardero\, 1776 I Street NW Entrance on 18th\, between H and I\, Washington DC\, Washington\, DC\, 20006\, United States
END:VEVENT
END:VCALENDAR