BEGIN:VCALENDAR
VERSION:2.0
PRODID:-//Taberna del Alabardero - ECPv4.9.13//NONSGML v1.0//EN
CALSCALE:GREGORIAN
METHOD:PUBLISH
X-WR-CALNAME:Taberna del Alabardero
X-ORIGINAL-URL:https://alabardero.com
X-WR-CALDESC:Events for Taberna del Alabardero
BEGIN:VTIMEZONE
TZID:UTC
BEGIN:STANDARD
TZOFFSETFROM:+0000
TZOFFSETTO:+0000
TZNAME:UTC
DTSTART:20190101T000000
END:STANDARD
END:VTIMEZONE
BEGIN:VEVENT
DTSTART;VALUE=DATE:20190121
DTEND;VALUE=DATE:20190126
DTSTAMP:20260421T122518
CREATED:20181226T201521Z
LAST-MODIFIED:20181226T210233Z
UID:878-1548028800-1548460799@alabardero.com
SUMMARY:WINTER SPANISH WEEK
DESCRIPTION:Enjoy a special menu for $22 lunch and $35 dinner\, including one tapa\, one paella and one dessert! \n \nWINTER SPANISH WEEK 2019 \nTAPAS \nENSALADILLA RUSA CON ATUN\nTUNA AND POTATO SALAD \nGAZPACHO ANDALUZ\nANDALUSIAN GAZPACHO \nPATATAS BRAVAS\nFRIED POTATOES WITH SPICY MAYONNAISE \nPAN TUMACA CON JAMON SERRANO\nTOASTED BREAD WITH TOMATO\, GARLIC AND SERRANO HAM\n+$4 \nPAELLA \nPAELLA VALENCIANA\nCHICKEN AND BEANS PAELLA \nPAELLA VEGETARIANA\nVEGETABLES PAELLA \nARROZ NEGRO\nSQUID INK PAELLA\n+$6 \nPAELLA DE MARISCOS\nSEAFOOD PAELLA\n+$6 \nDESSERTS \nROSCON DE REYES CON NATA\nROSCÓN DE REYES WITH WHIPPED CREAM \nARROZ CON LECHE\nRICE PUDDING \nCREMA CATALANA CON HELADO DE VAINILLA\nCARAMELIZED CUSTARD CREAM WITH VANILLA ICE CREAM\n+$3 \n
URL:/event/tapas-paella-week
LOCATION:Taberna del Alabardero\, 1776 I Street NW Entrance on 18th\, between H and I\, Washington DC\, Washington\, DC\, 20006\, United States
END:VEVENT
END:VCALENDAR