BEGIN:VCALENDAR
VERSION:2.0
PRODID:-//Taberna del Alabardero - ECPv4.9.13//NONSGML v1.0//EN
CALSCALE:GREGORIAN
METHOD:PUBLISH
X-WR-CALNAME:Taberna del Alabardero
X-ORIGINAL-URL:https://alabardero.com
X-WR-CALDESC:Events for Taberna del Alabardero
BEGIN:VTIMEZONE
TZID:UTC
BEGIN:STANDARD
TZOFFSETFROM:+0000
TZOFFSETTO:+0000
TZNAME:UTC
DTSTART:20210101T000000
END:STANDARD
END:VTIMEZONE
BEGIN:VEVENT
DTSTART;VALUE=DATE:20210809
DTEND;VALUE=DATE:20210810
DTSTAMP:20260424T034045
CREATED:20210728T164302Z
LAST-MODIFIED:20210728T164432Z
UID:2204-1628467200-1628553599@alabardero.com
SUMMARY:Summer Restaurant Week
DESCRIPTION:Join us for RAMW Restaurant Week and enjoy a special lunch menu for $22 and a special dinner menu for $35. Available from August 9th to 15th.\nOur $35 Dinner menu will be available for takeout all month. \n
URL:/event/summer-restaurant-week/2021-08-09
LOCATION:Taberna del Alabardero\, 1776 I Street NW Entrance on 18th\, between H and I\, Washington DC\, Washington\, DC\, 20006\, United States
END:VEVENT
END:VCALENDAR