BEGIN:VCALENDAR
VERSION:2.0
PRODID:-//Taberna del Alabardero - ECPv4.9.13//NONSGML v1.0//EN
CALSCALE:GREGORIAN
METHOD:PUBLISH
X-WR-CALNAME:Taberna del Alabardero
X-ORIGINAL-URL:https://alabardero.com
X-WR-CALDESC:Events for Taberna del Alabardero
BEGIN:VTIMEZONE
TZID:UTC
BEGIN:STANDARD
TZOFFSETFROM:+0000
TZOFFSETTO:+0000
TZNAME:UTC
DTSTART:20250101T000000
END:STANDARD
END:VTIMEZONE
BEGIN:VEVENT
DTSTART;VALUE=DATE:20250320
DTEND;VALUE=DATE:20250401
DTSTAMP:20260424T021929
CREATED:20250320T210611Z
LAST-MODIFIED:20250320T210611Z
UID:4205-1742428800-1743465599@alabardero.com
SUMMARY:Spring Wine Fling
DESCRIPTION:🌷 Roses are red\, violets are blue… wine is better\, and so are you. 🍷 Join us for Spring Wine Fling—where the pours are bold\, and the vibes are gold. ✨ \n \n
URL:/event/spring-wine-fling
LOCATION:Taberna del Alabardero\, 1776 I Street NW Entrance on 18th\, between H and I\, Washington DC\, Washington\, DC\, 20006\, United States
END:VEVENT
END:VCALENDAR