BEGIN:VCALENDAR
VERSION:2.0
PRODID:-//Taberna del Alabardero - ECPv4.9.13//NONSGML v1.0//EN
CALSCALE:GREGORIAN
METHOD:PUBLISH
X-WR-CALNAME:Taberna del Alabardero
X-ORIGINAL-URL:https://alabardero.com
X-WR-CALDESC:Events for Taberna del Alabardero
BEGIN:VTIMEZONE
TZID:UTC
BEGIN:STANDARD
TZOFFSETFROM:+0000
TZOFFSETTO:+0000
TZNAME:UTC
DTSTART:20230101T000000
END:STANDARD
END:VTIMEZONE
BEGIN:VEVENT
DTSTART;VALUE=DATE:20230821
DTEND;VALUE=DATE:20230904
DTSTAMP:20260420T120545
CREATED:20230810T203904Z
LAST-MODIFIED:20230817T193923Z
UID:2812-1692576000-1693785599@alabardero.com
SUMMARY:Restaurant Week!
DESCRIPTION:Disfrute de la elegancia de España\, aquí mismo en DC\, mientras celebramos Restaurant Week del 21 de agosto al 3 de septiembre. Experimente nuestro almuerzo especialmente elaborado por solo $25 por persona\, o sumérjase en una lujosa cena por $40 por persona. Eleve sus papilas gustativas con nuestras excepcionales delicias españolas. ¡Asegura tu mesa ahora para un viaje culinario inolvidable! 🍴🍷 \nReserva Ahora https://bit.ly/3W1rhSN o llámanos 202-429-2200 \nDisfruta de la elegancia de España\, aquí mismo en DC\, mientras celebramos Restaurant Week del 21 de agosto al 3 de septiembre. Experimenta nuestro almuerzo especialmente elaborado por solo $25 por persona\, o sumérgete en una lujosa cena por $40 por persona. Eleva tus papilas gustativas con nuestras excepcionales delicias españolas. ¡Asegura tu mesa ahora para un viaje culinario inolvidable! 🍴🍷 \nReserva Ahora https://bit.ly/3W1rhSN o llámanos 202-429-2200 \n \n \n \n  \n
URL:/event/restaurant-week-3
LOCATION:1776 I Street NW Entrance on 18th\,\, between H and I\, WA\, 20006\, United States
END:VEVENT
END:VCALENDAR