BEGIN:VCALENDAR
VERSION:2.0
PRODID:-//Taberna del Alabardero - ECPv4.9.13//NONSGML v1.0//EN
CALSCALE:GREGORIAN
METHOD:PUBLISH
X-WR-CALNAME:Taberna del Alabardero
X-ORIGINAL-URL:https://alabardero.com
X-WR-CALDESC:Events for Taberna del Alabardero
BEGIN:VTIMEZONE
TZID:UTC
BEGIN:STANDARD
TZOFFSETFROM:+0000
TZOFFSETTO:+0000
TZNAME:UTC
DTSTART:20180101T000000
END:STANDARD
END:VTIMEZONE
BEGIN:VEVENT
DTSTART;TZID=UTC:20181126T113000
DTEND;TZID=UTC:20181130T220000
DTSTAMP:20260422T012656
CREATED:20181029T172718Z
LAST-MODIFIED:20181029T173057Z
UID:810-1543231800-1543615200@alabardero.com
SUMMARY:Paella Festival
DESCRIPTION: \nLet´s celebrate Paella! \nWe bring 8 different paellas this month\, try them all! \nPaella Valenciana (Chicken and Beans)\n$28 \nPaella de Verduras (Vegetables)\n$28 \nPaella con Pollo y Chistorra (Chicken and chistorra)\n$28 \nPaella con Bacalao y Pimiento del Piquillo (Cod and Piquillo peppers)\n$28 \nArroz Negro (Black rice)\n$32 \nPaella con Pato\, Espárragos y Setas (Duck\, asparagus and mushrooms)\n$32 \nPaella Marinera (Fish and Seafood)\n$33 \nPaella de Langosta (Lobster)\n$42 \nEnjoy unlimited Paella at our Tuesday Buffet!\nFrom 5:30 to 7pm\nIncludes the Tapa of the day + 3 different Paellas\n$30 (tax and gratuity not included) \nWatch our chefs Cooking Paella at our Tuesday happy hour!\nFrom 5:30 \nJoin our Paella Cooking Class on Friday 16th at 6:00 pm\nLearn how to make our traditional Paella and enjoy an authentic Spanish meal!\nTapas\, Paella\, and House Wine included\n$90 (tax and gratuity not included) \n
URL:/event/paella-festival-5
LOCATION:Taberna del Alabardero\, 1776 I Street NW Entrance on 18th\, between H and I\, Washington DC\, Washington\, DC\, 20006\, United States
END:VEVENT
END:VCALENDAR