BEGIN:VCALENDAR
VERSION:2.0
PRODID:-//Taberna del Alabardero - ECPv4.9.13//NONSGML v1.0//EN
CALSCALE:GREGORIAN
METHOD:PUBLISH
X-WR-CALNAME:Taberna del Alabardero
X-ORIGINAL-URL:https://alabardero.com
X-WR-CALDESC:Events for Taberna del Alabardero
BEGIN:VTIMEZONE
TZID:UTC
BEGIN:STANDARD
TZOFFSETFROM:+0000
TZOFFSETTO:+0000
TZNAME:UTC
DTSTART:20240101T000000
END:STANDARD
END:VTIMEZONE
BEGIN:VEVENT
DTSTART;TZID=UTC:20240330T120000
DTEND;TZID=UTC:20240330T120000
DTSTAMP:20260424T022058
CREATED:20240313T002604Z
LAST-MODIFIED:20240313T002837Z
UID:3038-1711800000-1711800000@alabardero.com
SUMMARY:Paella Cooking Class March 30th
DESCRIPTION:Unleash your inner chef at our Paella Class on March 30th\, 12pm in Washington DC! Join us for a culinary voyage where you’ll learn to create the perfect paella\, complete with a tempting starter and a scrumptious dessert\, all for $125 per ticket. 💃🥘 \nReserve Now https://bit.ly/4bTIHKa \n¡Libera el chef que llevas dentro en nuestra clase de paella el 30 de marzo a las 12pm en Washington DC! Únete a nosotros en un viaje culinario en el que aprenderás a crear la paella perfecta\, completa con un entrante tentador y un postre delicioso\, todo por $125 por boleto. 💃🥘 \nReserva Ahora https://bit.ly/4bTIHKa \n \n
URL:/event/paella-cooking-class-march-30th
LOCATION:Taberna del Alabardero\, 1776 I Street NW Entrance on 18th\, between H and I\, Washington DC\, Washington\, DC\, 20006\, United States
END:VEVENT
END:VCALENDAR