BEGIN:VCALENDAR
VERSION:2.0
PRODID:-//Taberna del Alabardero - ECPv4.9.13//NONSGML v1.0//EN
CALSCALE:GREGORIAN
METHOD:PUBLISH
X-WR-CALNAME:Taberna del Alabardero
X-ORIGINAL-URL:https://alabardero.com
X-WR-CALDESC:Events for Taberna del Alabardero
BEGIN:VTIMEZONE
TZID:UTC
BEGIN:STANDARD
TZOFFSETFROM:+0000
TZOFFSETTO:+0000
TZNAME:UTC
DTSTART:20180101T000000
END:STANDARD
END:VTIMEZONE
BEGIN:VEVENT
DTSTART;TZID=UTC:20181126T173000
DTEND;TZID=UTC:20181126T190000
DTSTAMP:20260421T222353
CREATED:20181029T174211Z
LAST-MODIFIED:20181029T175241Z
UID:819-1543253400-1543258800@alabardero.com
SUMMARY:Paella Buffet
DESCRIPTION:Enjoy unlimited Paella at our Tuesday Buffet!\nFrom 5:30 to 7pm\nIncludes the Tapa of the day + 3 different Paellas\n$30 (tax and gratuity not included)\nPrice per person\, full table participation \n \n
URL:/event/paella-buffet-4
LOCATION:Taberna del Alabardero\, 1776 I Street NW Entrance on 18th\, between H and I\, Washington DC\, Washington\, DC\, 20006\, United States
END:VEVENT
END:VCALENDAR