BEGIN:VCALENDAR
VERSION:2.0
PRODID:-//Taberna del Alabardero - ECPv4.9.13//NONSGML v1.0//EN
CALSCALE:GREGORIAN
METHOD:PUBLISH
X-WR-CALNAME:Taberna del Alabardero
X-ORIGINAL-URL:https://alabardero.com
X-WR-CALDESC:Events for Taberna del Alabardero
BEGIN:VTIMEZONE
TZID:UTC
BEGIN:STANDARD
TZOFFSETFROM:+0000
TZOFFSETTO:+0000
TZNAME:UTC
DTSTART:20250101T000000
END:STANDARD
END:VTIMEZONE
BEGIN:VEVENT
DTSTART;TZID=UTC:20250103T200000
DTEND;TZID=UTC:20250103T220000
DTSTAMP:20260424T034045
CREATED:20241209T204815Z
LAST-MODIFIED:20241216T214853Z
UID:3689-1735934400-1735941600@alabardero.com
SUMMARY:Live Flamenco! 8pm to 10pm Fridays and Saturdays
DESCRIPTION:\n\n\n\n\n\n\n\n\n\n\n\n\n\n\nFeel the rhythm of Spain! 💃🎶 Join us for Flamenco Nights every Friday and Saturday from 8 pm to 10 pm. Experience the passion\, music\, and dance! \n¡Siente el ritmo de España! 💃🎶 Únete a nosotros en nuestras Noches de Flamenco todos los viernes y sábados de 8pm a 10pm. ¡Vive la pasión\, la música y el baile! \n \n\n\n\n\n \n\n\n \n\n\n \n\n\n\n\n
URL:/event/live-flamenco-8pm-to-10pm/2025-01-03
LOCATION:Taberna del Alabardero\, 1776 I Street NW Entrance on 18th\, between H and I\, Washington DC\, Washington\, DC\, 20006\, United States
END:VEVENT
END:VCALENDAR