BEGIN:VCALENDAR
VERSION:2.0
PRODID:-//Taberna del Alabardero - ECPv4.9.13//NONSGML v1.0//EN
CALSCALE:GREGORIAN
METHOD:PUBLISH
X-WR-CALNAME:Taberna del Alabardero
X-ORIGINAL-URL:https://alabardero.com
X-WR-CALDESC:Events for Taberna del Alabardero
BEGIN:VTIMEZONE
TZID:UTC
BEGIN:STANDARD
TZOFFSETFROM:+0000
TZOFFSETTO:+0000
TZNAME:UTC
DTSTART:20190101T000000
END:STANDARD
END:VTIMEZONE
BEGIN:VEVENT
DTSTART;VALUE=DATE:20190108
DTEND;VALUE=DATE:20190109
DTSTAMP:20260421T173712
CREATED:20181226T195153Z
LAST-MODIFIED:20181226T195300Z
UID:869-1546905600-1546991999@alabardero.com
SUMMARY:50% TUESDAY
DESCRIPTION:Enjoy any bottle of wine available in our cellar at 50%! \n \n
URL:/event/50-tuesday/2019-01-08
LOCATION:Taberna del Alabardero\, 1776 I Street NW Entrance on 18th\, between H and I\, Washington DC\, Washington\, DC\, 20006\, United States
END:VEVENT
END:VCALENDAR